BEGIN:VCALENDAR
VERSION:2.0
PRODID:-//ChamberMaster//Event Calendar 2.0//EN
METHOD:PUBLISH
X-PUBLISHED-TTL:P3D
REFRESH-INTERVAL:P3D
CALSCALE:GREGORIAN
BEGIN:VEVENT
DTSTART:20190822T214500Z
DTEND:20190823T010000Z
X-MICROSOFT-CDO-ALLDAYEVENT:FALSE
SUMMARY:2019 - Summer Soiree
DESCRIPTION:Celebrating Sustainable Success in Otsego County.  Help us honor\n\nClark Sports Center recipient of the NBT Insurance Agency Quality of Life Award\n\nand\n\nInformation Systems Division recipient of the Bank of Cooperstown Environmental Stewardship Award
X-ALT-DESC;FMTTYPE=text/html:Celebrating Sustainable Success in Otsego County.&nbsp\; Help us honor<br />\n<strong>Clark Sports Center</strong> recipient of the NBT Insurance Agency Quality of Life Award<br />\nand<br />\n<strong>Information Systems Division</strong> recipient&nbsp\;of the Bank of Cooperstown Environmental Stewardship Award
LOCATION:Clark Sports Center 124 County Highway 52 Cooperstown\, NY 13326
UID:e.2635.323
SEQUENCE:3
DTSTAMP:20260422T032055Z
URL:http://otsegocc-dev.chambermaster.com/events/details/2019-summer-soiree-323
END:VEVENT

END:VCALENDAR
